BEGIN:VCALENDAR
VERSION:2.0
PRODID:-//Museum of Durham History//NONSGML Events//EN
METHOD:REQUEST
BEGIN:VEVENT
UID:20260423T094354-77509974-modh
DTSTAMP:20260423T094354
DTSTART:20181026T183000
DTEND:20181026T203000
SUMMARY:Still on! MoDH 5th Birthday Weekend: Fireside Chat
DESCRIPTION:Please join us as we celebrate our FIFTH Birthday with a weekend full of fun! Friday, October 26th at 6:30PM we kick-off the occasion with a “Fireside Chat” under the comfort of our gazebo. Emcee John Schelp hosts an evening of local storytellers including the Honorable Bill Bell, Jim...
END:VEVENT
END:VCALENDAR
