BEGIN:VCALENDAR
VERSION:2.0
PRODID:-//Museum of Durham History//NONSGML Events//EN
METHOD:REQUEST
BEGIN:VEVENT
UID:20260423T100256-854384002-modh
DTSTAMP:20260423T100256
DTSTART:20180810T180000
DTEND:20180810T200000
SUMMARY:Building Bridges through Good Faith Closing Event
DESCRIPTION:Friday August 10th from 6:00-8:00PM, the Museum of Durham History will host a closing reception for the Building Bridges through Good Faith exhibit. We are sad to see the end of this exhibit, but are so pleased with its run which was full of great partnerships and programming! Please join us...
END:VEVENT
END:VCALENDAR
