BEGIN:VCALENDAR
VERSION:2.0
PRODID:-//Museum of Durham History//NONSGML Events//EN
METHOD:REQUEST
BEGIN:VEVENT
UID:20260423T095146-1580174954-modh
DTSTAMP:20260423T095146
DTSTART:20180720T180000
DTEND:20180720T210000
SUMMARY:Third Friday- Live Music Under the Gazebo!
DESCRIPTION:Join us for FREE live music outside under the gazebo and extended hours to explore our exhibits!...
END:VEVENT
END:VCALENDAR
