BEGIN:VCALENDAR
VERSION:2.0
PRODID:-//Museum of Durham History//NONSGML Events//EN
METHOD:REQUEST
BEGIN:VEVENT
UID:20260423T095203-1048808807-modh
DTSTAMP:20260423T095203
DTSTART:20180817T180000
DTEND:20180817T200000
SUMMARY:&#8220;Durham During the Great War&#8221; Opening Reception
DESCRIPTION:Please join us on Friday August 17th from 6-8PM at the Museum of Durham History for the opening reception of our newest exhibit “Durham During the Great War,” as we commemorate the centennial of the Armistice of World War I. This event is FREE and open to the public, featuring...
END:VEVENT
END:VCALENDAR
