BEGIN:VCALENDAR
VERSION:2.0
PRODID:-//Museum of Durham History//NONSGML Events//EN
METHOD:REQUEST
BEGIN:VEVENT
UID:20260423T094218-1853832553-modh
DTSTAMP:20260423T094218
DTSTART:20180616T000000
DTEND:20180616T000000
SUMMARY:Eid al-Fitr Program
DESCRIPTION:Join us at the Museum of Durham History on Saturday, June 16 at 4PM for a program during the celebration of Eid al-Fitr which marks the end of the fast of Ramadan. This program will include a panel discussion about the Muslim and African American Muslim experience, particularly in Durham, and the impact...
END:VEVENT
END:VCALENDAR
