BEGIN:VCALENDAR
VERSION:2.0
PRODID:-//Museum of Durham History//NONSGML Events//EN
METHOD:REQUEST
BEGIN:VEVENT
UID:20260423T100255-2011610463-modh
DTSTAMP:20260423T100255
DTSTART:20180519T180000
DTEND:20180519T210000
SUMMARY:Third Friday- Live Music Under the Gazebo
DESCRIPTION:Join us for FREE live music outside under the gazebo and extended hours to explore our exhibits!...
END:VEVENT
END:VCALENDAR
