BEGIN:VCALENDAR
VERSION:2.0
PRODID:-//Museum of Durham History//NONSGML Events//EN
METHOD:REQUEST
BEGIN:VEVENT
UID:20260423T100754-1618728550-modh
DTSTAMP:20260423T100754
DTSTART:20180421T130000
DTEND:20180421T150000
SUMMARY:Ar-Razzaq Islamic Center Open House
DESCRIPTION:Ar-Razzaq Islamic Center, located on Chapel Hill Street in Durham across from InGold Tire, will host an Open House, Saturday, April 21, 2018, 1:00 PM – 3:00 PM. The event is open to the public and FREE to attend. There will be a short presentation, observation of the Islamic Prayer, followed by...
END:VEVENT
END:VCALENDAR
