BEGIN:VCALENDAR
VERSION:2.0
PRODID:-//Museum of Durham History//NONSGML Events//EN
METHOD:REQUEST
BEGIN:VEVENT
UID:20260423T100302-1628499878-modh
DTSTAMP:20260423T100302
DTSTART:20180429T150000
DTEND:20180429T000000
SUMMARY:CANCELLED Durham Voices from the Year of 1968&#8230; April and Beyond
DESCRIPTION:  This event has been cancelled, stay tuned for future re-scheduled date. ...
END:VEVENT
END:VCALENDAR
