BEGIN:VCALENDAR
VERSION:2.0
PRODID:-//Museum of Durham History//NONSGML Events//EN
METHOD:REQUEST
BEGIN:VEVENT
UID:20260423T095406-602676556-modh
DTSTAMP:20260423T095406
DTSTART:20180512T110000
DTEND:20180512T130000
SUMMARY:biking DURHAM&#8217;S hiSTORIES
DESCRIPTION:On Saturday, May 12 from 11AM-1PM the Museum of Durham History is celebrating National Bike Month by leading biking DURHAM’S hiSTORIES, a family-friendly, leisurely tour through downtown Durham. This ride is FREE, but with a $20 donation you will receive a biking DURHAM’S hiSTORIES t-shirt! Tickets are available now on our Eventbrite page! Led by local...
END:VEVENT
END:VCALENDAR
