BEGIN:VCALENDAR
VERSION:2.0
PRODID:-//Museum of Durham History//NONSGML Events//EN
METHOD:REQUEST
BEGIN:VEVENT
UID:20260423T095407-405365181-modh
DTSTAMP:20260423T095407
DTSTART:20180420T180000
DTEND:20180420T200000
SUMMARY:Building Bridges through Good Faith- Exhibit Opening
DESCRIPTION:  The Museum of Durham History is collaborating with current and former members of the Ar-Razzaq Islamic Center to develop an educational exhibition on one of the oldest Muslim communities in North Carolina. This project will explore the history of Ar-Razzaq and its economic, political, and cultural impact on Durham and the state of North Carolina. The year-long...
END:VEVENT
END:VCALENDAR
