BEGIN:VCALENDAR
VERSION:2.0
PRODID:-//Museum of Durham History//NONSGML Events//EN
METHOD:REQUEST
BEGIN:VEVENT
UID:20260423T100511-566747009-modh
DTSTAMP:20260423T100511
DTSTART:20180316T180000
DTEND:20180316T210000
SUMMARY:Third Friday- Live Music Under the Gazebo
DESCRIPTION:While you start off your St. Patrick’s Day festivities downtown, make sure to stop by Friday, March 16th for the museum’s extended hours!...
END:VEVENT
END:VCALENDAR
