BEGIN:VCALENDAR
VERSION:2.0
PRODID:-//Museum of Durham History//NONSGML Events//EN
METHOD:REQUEST
BEGIN:VEVENT
UID:20260423T113045-657695209-modh
DTSTAMP:20260423T113045
DTSTART:20180407T130000
DTEND:20180407T153000
SUMMARY:Neighborhoods Hike: West Durham, East Campus &#038; Beyond
DESCRIPTION:Guided walking tour by local history lover John Schelp.
END:VEVENT
END:VCALENDAR
