BEGIN:VCALENDAR
VERSION:2.0
PRODID:-//Museum of Durham History//NONSGML Events//EN
METHOD:REQUEST
BEGIN:VEVENT
UID:20260423T095252-880920923-modh
DTSTAMP:20260423T095252
DTSTART:20180216T180000
DTEND:20180216T200000
SUMMARY:Love In Durham
DESCRIPTION:One of the Museum of Durham History’s most popular events is back again to celebrate Love In Durham. On Friday February 16th from 6-8PM, stop by the museum to create a decorative Valentine to be put on display in our gallery for all of Durham to see! Bring photos of...
END:VEVENT
END:VCALENDAR
