BEGIN:VCALENDAR
VERSION:2.0
PRODID:-//Museum of Durham History//NONSGML Events//EN
METHOD:REQUEST
BEGIN:VEVENT
UID:20260423T113024-1161930458-modh
DTSTAMP:20260423T113024
DTSTART:20171215T180000
DTEND:20171215T203000
SUMMARY:&#8220;The Woman Who Made Snow&#8221; Exhibit Opening Event
DESCRIPTION:Opening event for our newest exhibit “The Woman Who Made Snow”, highlighting the historic Snow Building and the woman who made it happen. This event is FREE and open to the public, featuring complimentary refreshments courtesy of Viceroy Durham, live music and an “Art Deco themed” raffle for...
END:VEVENT
END:VCALENDAR
