BEGIN:VCALENDAR
VERSION:2.0
PRODID:-//Museum of Durham History//NONSGML Events//EN
METHOD:REQUEST
BEGIN:VEVENT
UID:20260423T094131-1933699410-modh
DTSTAMP:20260423T094131
DTSTART:20171117T180000
DTEND:20171117T200000
SUMMARY:Third Friday- Live Music Inside!
DESCRIPTION:Funk/soul/rock guitarist and songwriter Emily Musolino (also of Dark Water Rising fame) performs under the gazebo inside the MoDH for this month’s Third Friday festivities!...
END:VEVENT
END:VCALENDAR
