BEGIN:VCALENDAR
VERSION:2.0
PRODID:-//Museum of Durham History//NONSGML Events//EN
METHOD:REQUEST
BEGIN:VEVENT
UID:20260423T095148-1021828306-modh
DTSTAMP:20260423T095148
DTSTART:20170906T160000
DTEND:20170906T190000
SUMMARY:Share your thoughts at Durham Belt Line Master Plan Visioning Workshop
DESCRIPTION:Hope you plan to come by next Wed. We’ll be at the Workshop recording your thoughts and memories of the Belt Line with our video “Storykiosk”, as well good ol’ fashioned voice recorders. Looking forward to it! Check out the Storykiosk in action:  ...
END:VEVENT
END:VCALENDAR
