BEGIN:VCALENDAR
VERSION:2.0
PRODID:-//Museum of Durham History//NONSGML Events//EN
METHOD:REQUEST
BEGIN:VEVENT
UID:20260423T095201-1260176940-modh
DTSTAMP:20260423T095201
DTSTART:20170915T180000
DTEND:20170915T203000
SUMMARY:DON’T QUIT: The Nello Teer, Sr. Story- exhibit opening reception
DESCRIPTION:DON’T QUIT: The Nello Teer, Sr. Story, set to open September 15th at the Museum. The exhibit will launch with a public reception from 6:00pm to 8:30pm on the 15th, coinciding with the Museum’s regular involvement in Durham’s Third Fridays. Complimentary light refreshments and beverages will be available, and jazz guitarist...
END:VEVENT
END:VCALENDAR
