BEGIN:VCALENDAR
VERSION:2.0
PRODID:-//Museum of Durham History//NONSGML Events//EN
METHOD:REQUEST
BEGIN:VEVENT
UID:20260423T113045-648596962-modh
DTSTAMP:20260423T113045
DTSTART:20170818T170000
DTEND:20170818T200000
SUMMARY:Third Friday- Live Music Under the Gazebo
DESCRIPTION:Join us for FREE live music outside under the gazebo and extended hours to explore our exhibits!...
END:VEVENT
END:VCALENDAR
