BEGIN:VCALENDAR
VERSION:2.0
PRODID:-//Museum of Durham History//NONSGML Events//EN
METHOD:REQUEST
BEGIN:VEVENT
UID:20260423T113931-1660071845-modh
DTSTAMP:20260423T113931
DTSTART:20170819T030000
DTEND:20170819T050000
SUMMARY:History of Durham&#8217;s Ar-Razzaq Islamic Center
DESCRIPTION:Join us for a look back at the rich history of this local institution. Started in the 1950s, the Ar-Razzaq Islamic Center, formerly Muhammad's Mosque #34, is one of the oldest Muslim communities in North Carolina. Naomi Feaste, Community Curator, and Katie Spencer, Curator, Museum of Durham History, will introduce...
END:VEVENT
END:VCALENDAR
