BEGIN:VCALENDAR
VERSION:2.0
PRODID:-//Museum of Durham History//NONSGML Events//EN
METHOD:REQUEST
BEGIN:VEVENT
UID:20260423T100511-774159577-modh
DTSTAMP:20260423T100511
DTSTART:20170721T180000
DTEND:20170721T203000
SUMMARY:Third Friday- Live Music Under The Gazebo!
DESCRIPTION:  Jazz guitarist Ashesh Chatterjee performs outside under the gazebo for July’s Third Friday festivities. Feel inspired by his licks and step inside to see Durham A-Z: J is for Jazz!           ...
END:VEVENT
END:VCALENDAR
