BEGIN:VCALENDAR
VERSION:2.0
PRODID:-//Museum of Durham History//NONSGML Events//EN
METHOD:REQUEST
BEGIN:VEVENT
UID:20260423T095404-1232432469-modh
DTSTAMP:20260423T095404
DTSTART:20170610T100000
DTEND:20170610T110000
SUMMARY:Louis E. Austin History Grove Dedication
DESCRIPTION:Journalist, leader, and social activist Louis E. Austin will be honored at the newest History Grove at Solite Park, located at 4704 Fayetteville Street.
END:VEVENT
END:VCALENDAR
