BEGIN:VCALENDAR
VERSION:2.0
PRODID:-//Museum of Durham History//NONSGML Events//EN
METHOD:REQUEST
BEGIN:VEVENT
UID:20260423T100415-382486120-modh
DTSTAMP:20260423T100415
DTSTART:20170415T120000
DTEND:20170415T150000
SUMMARY:FREE Neighborhoods Hike- Saturday, April 15 2017
DESCRIPTION:Who is the only person to have a building named after them at both Duke and UNC? Who wrote the song, Tobacco Road, and was “born on a kitchen table” behind Monuts? Where did Madonna take early dance lessons? Find out the answer to these and...
END:VEVENT
END:VCALENDAR
