BEGIN:VCALENDAR
VERSION:2.0
PRODID:-//Museum of Durham History//NONSGML Events//EN
METHOD:REQUEST
BEGIN:VEVENT
UID:20260423T094132-131396858-modh
DTSTAMP:20260423T094132
DTSTART:20170217T180000
DTEND:20170217T200000
SUMMARY:Third Friday- Live music inside the MoDH
DESCRIPTION:It’s cold out there, but it’s cozy and warm inside where Bluesman Bullfrog Williard McGhee performs for this month’s Third Friday!...
END:VEVENT
END:VCALENDAR
