BEGIN:VCALENDAR
VERSION:2.0
PRODID:-//Museum of Durham History//NONSGML Events//EN
METHOD:REQUEST
BEGIN:VEVENT
UID:20260423T095257-1814333858-modh
DTSTAMP:20260423T095257
DTSTART:20170618T130000
DTEND:20170618T150000
SUMMARY:Biking Durham&#8217;s HiSTORIES- NEW DATE!
DESCRIPTION:The weather wasn’t kind to us, but it gives us a chance to take a ride with Dad! Bring the family on a leisurely ride as we discover some of Durham’s oldest stories. Co-sponsored by Bike Durham. CLICK HERE for more details!...
END:VEVENT
END:VCALENDAR
