BEGIN:VCALENDAR
VERSION:2.0
PRODID:-//Museum of Durham History//NONSGML Events//EN
METHOD:REQUEST
BEGIN:VEVENT
UID:20260423T114038-1696550022-modh
DTSTAMP:20260423T114038
DTSTART:20170428T160000
DTEND:20170428T190000
SUMMARY:Art of CLTure- Art of Cool Fest Official Day Party
DESCRIPTION:The Art of CLTure Day Party- FREE Music, food, art, and good vibes Durham A-Z: J is for Jazz exhibit (Inside Museum) A history of Jazz-inspired hip-hop music curated by DHurl Vendors: Hop Fest, Diggers Delight (Records), Remix Vinyl Records Boutique (Records), Amy May Pop Art, Bolla Fresco Soap, MTC...
END:VEVENT
END:VCALENDAR
