BEGIN:VCALENDAR
VERSION:2.0
PRODID:-//Museum of Durham History//NONSGML Events//EN
METHOD:REQUEST
BEGIN:VEVENT
UID:20260423T100415-364324596-modh
DTSTAMP:20260423T100415
DTSTART:20170427T180000
DTEND:20170427T200000
SUMMARY:Durham A-Z: J is for Jazz exhibit opening party
DESCRIPTION:The Museum of Durham History, in coordination with the Art of Cool Project, will kick off the Art of Cool Festival with an event celebrating a new exhibit that tells Durham’s jazz story. Durham A-Z: J is for Jazz opens with food, beverages, and live performances by two luminaries...
END:VEVENT
END:VCALENDAR
