BEGIN:VCALENDAR
VERSION:2.0
PRODID:-//Museum of Durham History//NONSGML Events//EN
METHOD:REQUEST
BEGIN:VEVENT
UID:20260423T094258-860366152-modh
DTSTAMP:20260423T094258
DTSTART:20170210T180000
DTEND:20170210T200000
SUMMARY:#loveDURM Photo Contest and Party
DESCRIPTION:The concept is simple: take a photo of what makes you love Durham and post it to social media with the hashtag #loveDURM. This contest will run from January 25th to February 8th, culminating in a #loveDURM party at the Museum of Durham History, 500 W. Main St., on Friday,...
END:VEVENT
END:VCALENDAR
