BEGIN:VCALENDAR
VERSION:2.0
PRODID:-//Museum of Durham History//NONSGML Events//EN
METHOD:REQUEST
BEGIN:VEVENT
UID:20260423T095202-1510451279-modh
DTSTAMP:20260423T095202
DTSTART:20170616T000000
DTEND:20170616T000000
SUMMARY:Story Quilt Dedication
DESCRIPTION:Local quilters unveil quilt that incorporates stories gathered by MoDH.
END:VEVENT
END:VCALENDAR
