BEGIN:VCALENDAR
VERSION:2.0
PRODID:-//Museum of Durham History//NONSGML Events//EN
METHOD:REQUEST
BEGIN:VEVENT
UID:20260423T100256-722059202-modh
DTSTAMP:20260423T100256
DTSTART:20171207T100000
DTEND:20171207T170000
SUMMARY:Cider and Cookies at MoDH
DESCRIPTION:Enjoy FREE hot cider and homemade cookies every day during the holidays! Sip and nibble away while you explore exhibits about the historic Snow Building, Durham Beginnings | 1865-1885 and more!...
END:VEVENT
END:VCALENDAR
