BEGIN:VCALENDAR
VERSION:2.0
PRODID:-//Museum of Durham History//NONSGML Events//EN
METHOD:REQUEST
BEGIN:VEVENT
UID:20260423T095258-1319466393-modh
DTSTAMP:20260423T095258
DTSTART:20161216T180000
DTEND:20161216T200000
SUMMARY:Third Friday: Live Music Plus Cider &#038; Cookies
DESCRIPTION:Enjoy live music from father/daughter jazz bassists Ben and Gen Palmer, plus our seasonal treat of FREE hot cider and homemade cookies in the cozy warmth of the MoDH! Just a few days remain to see Our Bull City exhibit Finding Each Other in History: Stories from Durham LGBTQ+.
END:VEVENT
END:VCALENDAR
