BEGIN:VCALENDAR
VERSION:2.0
PRODID:-//Museum of Durham History//NONSGML Events//EN
METHOD:REQUEST
BEGIN:VEVENT
UID:20260423T100137-963972146-modh
DTSTAMP:20260423T100137
DTSTART:20160819T173000
DTEND:20160819T200000
SUMMARY:Third Friday: Live Music Under the Gazebo
DESCRIPTION:Blues guitar ace (and junior high student) Nathan Pope plays outside under the MoDH gazebo for this sizzling August Third Friday!...
END:VEVENT
END:VCALENDAR
