BEGIN:VCALENDAR
VERSION:2.0
PRODID:-//Museum of Durham History//NONSGML Events//EN
METHOD:REQUEST
BEGIN:VEVENT
UID:20260423T113023-2128080648-modh
DTSTAMP:20260423T113023
DTSTART:20161021T170000
DTEND:20161021T200000
SUMMARY:Durham A-Z: I is for Innovation exhibit opening party
DESCRIPTION:Have you ever had to open a childproof cap or press “control-alt-delete” on your keyboard? Are you familiar with the cochlear implant or Astroturf? These innovations came out of work and research done in Durham. Join us on this Third Friday for the opening party for the latest installment of...
END:VEVENT
END:VCALENDAR
