BEGIN:VCALENDAR
VERSION:2.0
PRODID:-//Museum of Durham History//NONSGML Events//EN
METHOD:REQUEST
BEGIN:VEVENT
UID:20260423T100254-921731889-modh
DTSTAMP:20260423T100254
DTSTART:20160916T180000
DTEND:20160916T200000
SUMMARY:Finding Each Other in History: Stories from LGBTQ+ Durham- exhibit opening
DESCRIPTION:Finding Each Other in History: Stories from LGBTQ+ Durham features personal narratives that illustrate how LGBTQ people in Durham have a long, but often invisible, history of overcoming adversity to form a community. It blends oral history and displayed artifacts; objects accompany oral history segments shared with visitors via individual...
END:VEVENT
END:VCALENDAR
