BEGIN:VCALENDAR
VERSION:2.0
PRODID:-//Museum of Durham History//NONSGML Events//EN
METHOD:REQUEST
BEGIN:VEVENT
UID:20260423T100707-1813744328-modh
DTSTAMP:20260423T100707
DTSTART:20160715T170000
DTEND:20160715T200000
SUMMARY:Third Friday- Live Music Under The Gazebo: Steve Fishman
DESCRIPTION:Join us this month as the sun sets and the weather cools off for acoustic/global musician Steve Fishman performs on June 15, 5-8PM https://www.facebook.com/events/240534396333398/...
END:VEVENT
END:VCALENDAR
