BEGIN:VCALENDAR
VERSION:2.0
PRODID:-//Museum of Durham History//NONSGML Events//EN
METHOD:REQUEST
BEGIN:VEVENT
UID:20260423T094259-418174920-modh
DTSTAMP:20260423T094259
DTSTART:20160715T170000
DTEND:20160715T200000
SUMMARY:Third Friday Under the Gazebo
DESCRIPTION:The MoDH has live entertainment outside under our gazebo every month for Third Friday!...
END:VEVENT
END:VCALENDAR
