BEGIN:VCALENDAR
VERSION:2.0
PRODID:-//Museum of Durham History//NONSGML Events//EN
METHOD:REQUEST
BEGIN:VEVENT
UID:20260423T100400-1445841701-modh
DTSTAMP:20260423T100400
DTSTART:20160618T173000
DTEND:20160618T183000
SUMMARY:Dedication of George and Mary Pyne History Grove
DESCRIPTION:Join us on Saturday, June 18, 2016 at 5:30pm to dedicate the newest History Grove honoring George and Mary Pyne. The Morehead Hill Neighborhood has come together to honor these beloved residents and their family’s work in Durham. Where:  Orchard Park 1000 S Duke St.
END:VEVENT
END:VCALENDAR
