BEGIN:VCALENDAR
VERSION:2.0
PRODID:-//Museum of Durham History//NONSGML Events//EN
METHOD:REQUEST
BEGIN:VEVENT
UID:20260423T095147-39191640-modh
DTSTAMP:20260423T095147
DTSTART:20160617T170000
DTEND:20160617T200000
SUMMARY:Third Friday: &#8220;Raleigh Rockers&#8221; Under the Gazebo
DESCRIPTION:B-Boy breakdancing at MoDH by Raleigh Rockers under the gazebo 5PM-8PM!  ...
END:VEVENT
END:VCALENDAR
