BEGIN:VCALENDAR
VERSION:2.0
PRODID:-//Museum of Durham History//NONSGML Events//EN
METHOD:REQUEST
BEGIN:VEVENT
UID:20260423T100415-1765228602-modh
DTSTAMP:20260423T100415
DTSTART:20160813T140000
DTEND:20160813T173000
SUMMARY:Baseball Card Family Day at MoDH
DESCRIPTION:Join us on Saturday, August 13 from 2PM-5:30PM for a pre-Durham Bulls game Family Day.  Come for an afternoon FULL of fun activities: Food Trucks Live Music Beverage Tent “Make Your Own Baseball Card” Photo Booth Outdoor Games “Baseball Story Telling” by the exhibit curator Wool E. Bull himself And...
END:VEVENT
END:VCALENDAR
