BEGIN:VCALENDAR
VERSION:2.0
PRODID:-//Museum of Durham History//NONSGML Events//EN
METHOD:REQUEST
BEGIN:VEVENT
UID:20260423T100400-1208922428-modh
DTSTAMP:20260423T100400
DTSTART:20160617T170000
DTEND:20160617T180000
SUMMARY:Heron History Grove dedication &#038; Senior Center anniversary- June 17
DESCRIPTION:The Museum of Durham History and Durham Center for Senior Life (DCSL) invite the public to attend a History Grove dedication ceremony on the plaza in front of the DCSL honoring the late Durham County Commissioner Becky Melton Heron, an advocate for resources for senior citizens. From 6pm-8pm the DCSL celebrates...
END:VEVENT
END:VCALENDAR
