BEGIN:VCALENDAR
VERSION:2.0
PRODID:-//Museum of Durham History//NONSGML Events//EN
METHOD:REQUEST
BEGIN:VEVENT
UID:20260423T100359-845623591-modh
DTSTAMP:20260423T100359
DTSTART:20160506T140000
DTEND:20160506T180000
SUMMARY:Official Art of Cool Day Party
DESCRIPTION:Join K97.5’s Mir.I.am as she hosts the official kick-off Day Party for the Art of Cool Festival at the Museum of Durham History on 5/6. Sounds will be provided by Mondell Dellmatic Dublin, with live performances from Will WildFire Lil-bob Doe and...
END:VEVENT
END:VCALENDAR
