BEGIN:VCALENDAR
VERSION:2.0
PRODID:-//Museum of Durham History//NONSGML Events//EN
METHOD:REQUEST
BEGIN:VEVENT
UID:20260423T100415-621065874-modh
DTSTAMP:20260423T100415
DTSTART:20160507T100000
DTEND:20160507T170000
SUMMARY:Recording Day w/Audio Under The Stars: Stories of Work &#038; Play
DESCRIPTION:Work it: stories of labor and leisure Drudgery or dream job- how do you make your money? What’s the oddest job you’ve ever taken? What would push you to walk away? At the end of the day, how do you put the world of work behind you? The Museum...
END:VEVENT
END:VCALENDAR
