BEGIN:VCALENDAR
VERSION:2.0
PRODID:-//Museum of Durham History//NONSGML Events//EN
METHOD:REQUEST
BEGIN:VEVENT
UID:20260423T100511-897433971-modh
DTSTAMP:20260423T100511
DTSTART:20160417T130000
DTEND:20160417T000000
SUMMARY:FREE Neighborhood Hike: West Durham, East Campus &#038; Beyond
DESCRIPTION:Sunday, April 17 at 1 PM local history lover John Schelp will narrate along the way. No need to register. Rain or shine. Three-mile loop starts at Ninth & Green, across from White Star Laundry. Hike takes about three hours (but folks can peel off anytime.) Optional post-tour gathering at...
END:VEVENT
END:VCALENDAR
