BEGIN:VCALENDAR
VERSION:2.0
PRODID:-//Museum of Durham History//NONSGML Events//EN
METHOD:REQUEST
BEGIN:VEVENT
UID:20260423T095202-807279600-modh
DTSTAMP:20260423T095202
DTSTART:20160520T173000
DTEND:20160520T203000
SUMMARY:Durham Symphony Ensembles Under the Gazebo
DESCRIPTION:The Durham Symphony celebrates its 40th season with a FREE performance under our gazebo for this Third Friday event. Food trucks, families and an evening of beautiful music! Ensembles include: Flute and Marimba Duo Cello and Flute Duo String Quartet Cello Choi...
END:VEVENT
END:VCALENDAR
