BEGIN:VCALENDAR
VERSION:2.0
PRODID:-//Museum of Durham History//NONSGML Events//EN
METHOD:REQUEST
BEGIN:VEVENT
UID:20260423T095258-385980026-modh
DTSTAMP:20260423T095258
DTSTART:20160514T000000
DTEND:20160514T000000
SUMMARY:Tobacco Town on Two Wheels- Biking Durham&#8217;s History
DESCRIPTION:Following the success of our ride during Bike-A-Bull City 2015, we’ve got an all new ride in store! On May 14, 1-3PM bring the family on a leisurely ride as we discover some of Durham’s oldest stories, once again led by local historian Ernie Dollar.  LEARN MORE!...
END:VEVENT
END:VCALENDAR
