BEGIN:VCALENDAR
VERSION:2.0
PRODID:-//Museum of Durham History//NONSGML Events//EN
METHOD:REQUEST
BEGIN:VEVENT
UID:20260423T094354-1304239005-modh
DTSTAMP:20260423T094354
DTSTART:20160430T100000
DTEND:20160430T170000
SUMMARY:Durham Art Walk &#038; Spring Market
DESCRIPTION:Program Alert: the water line work downtown has changed our Durham Art Walk Spring Market plans. Our artists are to be relocated this weekend. We appreciate Durham Arts Council taking good care of them and finding them a new home. We’ll still be...
END:VEVENT
END:VCALENDAR
