BEGIN:VCALENDAR
VERSION:2.0
PRODID:-//Museum of Durham History//NONSGML Events//EN
METHOD:REQUEST
BEGIN:VEVENT
UID:20260423T100511-1357612636-modh
DTSTAMP:20260423T100511
DTSTART:20160415T170000
DTEND:20160415T203000
SUMMARY:Durham and the Rise of the Baseball Card Exhibit Opening
DESCRIPTION:The popularity of baseball cards began in Durham? You bet! This exhibit opening party will be a big Third Friday bash, complete with live music under the gazebo by Tea Cup Gin and beverage tents. Of course no baseball event would be complete without hot dogs, courtesy of Joe’s...
END:VEVENT
END:VCALENDAR
