BEGIN:VCALENDAR
VERSION:2.0
PRODID:-//Museum of Durham History//NONSGML Events//EN
METHOD:REQUEST
BEGIN:VEVENT
UID:20260423T095257-741572680-modh
DTSTAMP:20260423T095257
DTSTART:20160423T130000
DTEND:20160423T160000
SUMMARY:Time travel with Extra Terrestrial Projects
DESCRIPTION:Time travel across the Durham landscape with Extra Terrestrial Projects. Learn about the historic flora and fauna of Durham County’s Triassic Basin and meet plants that are well adapted to Durham’s post-wild future. We’ll use a few tools to explore the invisible landscape around us – turning environmental data into light...
END:VEVENT
END:VCALENDAR
