BEGIN:VCALENDAR
VERSION:2.0
PRODID:-//Museum of Durham History//NONSGML Events//EN
METHOD:REQUEST
BEGIN:VEVENT
UID:20260423T094355-263038130-modh
DTSTAMP:20260423T094355
DTSTART:20160318T180000
DTEND:20160318T200000
SUMMARY:Aaron Moore Pop-Up Exhibit
DESCRIPTION:Eileen Watts Welch and Blake Hill-Saya present photos and artifacts about this Durham doctor, philanthropist, and leader in education. Since this is a Third Friday event, there will also will be music under our gazebo, provided by Counterclockwise String Band dobro player Tad Smith– the perfect complement for this celebration...
END:VEVENT
END:VCALENDAR
