BEGIN:VCALENDAR
VERSION:2.0
PRODID:-//Museum of Durham History//NONSGML Events//EN
METHOD:REQUEST
BEGIN:VEVENT
UID:20260423T095259-855509636-modh
DTSTAMP:20260423T095259
DTSTART:20161118T173000
DTEND:20161118T193000
SUMMARY:History Grove Meet-Up
DESCRIPTION:Does your neighborhood have a story to tell? Share it with a History Grove. Meet the Durhamites who made their Groves happen, as we celebrate their hard work and volunteer spirit!...
END:VEVENT
END:VCALENDAR
