BEGIN:VCALENDAR
VERSION:2.0
PRODID:-//Museum of Durham History//NONSGML Events//EN
METHOD:REQUEST
BEGIN:VEVENT
UID:20260423T100523-1224070384-modh
DTSTAMP:20260423T100523
DTSTART:20160212T180000
DTEND:20160212T200000
SUMMARY:&#8220;Love Is On The Air&#8221; Listening Party
DESCRIPTION:Kick off your Valentine’s weekend on Friday, Feb. 12th, 6PM-8PM at Love Is On The Air, a listening party and cocktail hour showcasing stories of love (or “Love Notes”) recorded in our Story Room. The stories were recorded in conjunction with Audio Under the Stars from Duke’s Center for Documentary Studies. Toast...
END:VEVENT
END:VCALENDAR
